BEGIN:VCALENDAR
VERSION:2.0
PRODID:-//Bach&amp;More - ECPv6.15.20//NONSGML v1.0//EN
CALSCALE:GREGORIAN
METHOD:PUBLISH
X-WR-CALNAME:Bach&amp;More
X-ORIGINAL-URL:https://bachandmore.de
X-WR-CALDESC:Veranstaltungen für Bach&amp;More
REFRESH-INTERVAL;VALUE=DURATION:PT1H
X-Robots-Tag:noindex
X-PUBLISHED-TTL:PT1H
BEGIN:VTIMEZONE
TZID:UTC
BEGIN:STANDARD
TZOFFSETFROM:+0000
TZOFFSETTO:+0000
TZNAME:UTC
DTSTART:20210101T000000
END:STANDARD
END:VTIMEZONE
BEGIN:VEVENT
DTSTART;TZID=UTC:20220717T180000
DTEND;TZID=UTC:20220717T180000
DTSTAMP:20260424T050513
CREATED:20220113T214704Z
LAST-MODIFIED:20220529T124647Z
UID:820-1658080800-1658080800@bachandmore.de
SUMMARY:Chor- und Orchesterkonzert II
DESCRIPTION:Bild von Manfred Antranias Zimmer auf Pixabay\nJohann Sebastian Bach: Kantate „Ich bin vergnügt mit meinem Glücke“\, BWV 84 Johann Michael Haydn: Missa in honorem Sanctae Ursulae „Chiemsee-Messe”\, MH 546 \nSolisten: Monika Lichtenegger\, Sopran | Camilla Bull\, Alt | Luca Gotti\, Tenor | Klaus Reiter\, Bass | Barockensemble Vaterstetten | JUBILATE-CHOR Zorneding \nLeitung: Matthias Gerstner
URL:https://bachandmore.de/event/chor-und-orchesterkonzert-ii/
LOCATION:Kath. Kirche St. Martin Zorneding\, Katholische Kirche Zorneding\, Anton-Grandauer-Straße 4\, Zorneding\, Bayern\, 85604\, Deutschland
CATEGORIES:Chorkonzert
END:VEVENT
END:VCALENDAR