BEGIN:VCALENDAR
VERSION:2.0
PRODID:-//Bach&amp;More - ECPv6.15.20//NONSGML v1.0//EN
CALSCALE:GREGORIAN
METHOD:PUBLISH
X-WR-CALNAME:Bach&amp;More
X-ORIGINAL-URL:https://bachandmore.de
X-WR-CALDESC:Veranstaltungen für Bach&amp;More
REFRESH-INTERVAL;VALUE=DURATION:PT1H
X-Robots-Tag:noindex
X-PUBLISHED-TTL:PT1H
BEGIN:VTIMEZONE
TZID:UTC
BEGIN:STANDARD
TZOFFSETFROM:+0000
TZOFFSETTO:+0000
TZNAME:UTC
DTSTART:20240101T000000
END:STANDARD
END:VTIMEZONE
BEGIN:VEVENT
DTSTART;TZID=UTC:20250928T170000
DTEND;TZID=UTC:20250928T180000
DTSTAMP:20260421T235847
CREATED:20250102T113308Z
LAST-MODIFIED:20250102T113308Z
UID:1418-1759078800-1759082400@bachandmore.de
SUMMARY:Orgel Plus IV : Konzert für zwei Fagotte und Orgel
DESCRIPTION:Werke von Telemann\, Galliard und Boismortier\nMusizierende: Matthias Delazer\, Fagott / Leonhard Kohler\, Fagott / Matthias Gerstner\, Orgel \nEintritt: 15 € / 8 €
URL:https://bachandmore.de/event/orgel-plus-iv-konzert-fuer-zwei-fagotte-und-orgel/
LOCATION:Kath. Kirche St. Aegidius Keferloh\, St. Aegidius\, Gut Keferloh 2\, Grasbrunn\, Bayern\, 85630
END:VEVENT
END:VCALENDAR