BEGIN:VCALENDAR
VERSION:2.0
PRODID:-//Bach&amp;More - ECPv6.15.20//NONSGML v1.0//EN
CALSCALE:GREGORIAN
METHOD:PUBLISH
X-WR-CALNAME:Bach&amp;More
X-ORIGINAL-URL:https://bachandmore.de
X-WR-CALDESC:Veranstaltungen für Bach&amp;More
REFRESH-INTERVAL;VALUE=DURATION:PT1H
X-Robots-Tag:noindex
X-PUBLISHED-TTL:PT1H
BEGIN:VTIMEZONE
TZID:UTC
BEGIN:STANDARD
TZOFFSETFROM:+0000
TZOFFSETTO:+0000
TZNAME:UTC
DTSTART:20240101T000000
END:STANDARD
END:VTIMEZONE
BEGIN:VEVENT
DTSTART;TZID=UTC:20250713T190000
DTEND;TZID=UTC:20250713T200000
DTSTAMP:20260422T033435
CREATED:20250102T112702Z
LAST-MODIFIED:20250710T182721Z
UID:1416-1752433200-1752436800@bachandmore.de
SUMMARY:Chor- und Orchesterkonzert II : CON VOCE
DESCRIPTION:Wolfgang Amadeus Mozart: Missa brevis in B\, KV 275 und Johann Michael Haydn: Missa Sancti Aloysii\, MH 257\nMusizierende: Monika Lichtenegger\, Sopran / Annette Kramny\, Alt / Camilla Bull\, Sopran / Barockensemble Vaterstetten / Kammerchor CON VOCE / Leitung: Matthias Gerstner \nEintritt: 18 € \nKarten sind auch ONLINE erhältlich. (zzgl. Vorverkaufsgebühr)
URL:https://bachandmore.de/event/chor-und-orchesterkonzert-ii-con-voce-2/
LOCATION:Kath. Wallfahrtskirche St. Ottilie Möschenfeld\, Wallfahrtskirche St. Ottilie\, St.-Ottilien-Weg 1\, Grasbrunn\, Bayern\, 85630
END:VEVENT
END:VCALENDAR