BEGIN:VCALENDAR
VERSION:2.0
PRODID:-//Bach&amp;More - ECPv6.15.20//NONSGML v1.0//EN
CALSCALE:GREGORIAN
METHOD:PUBLISH
X-ORIGINAL-URL:https://bachandmore.de
X-WR-CALDESC:Veranstaltungen für Bach&amp;More
REFRESH-INTERVAL;VALUE=DURATION:PT1H
X-Robots-Tag:noindex
X-PUBLISHED-TTL:PT1H
BEGIN:VTIMEZONE
TZID:UTC
BEGIN:STANDARD
TZOFFSETFROM:+0000
TZOFFSETTO:+0000
TZNAME:UTC
DTSTART:20240101T000000
END:STANDARD
END:VTIMEZONE
BEGIN:VEVENT
DTSTART;TZID=UTC:20250518T180000
DTEND;TZID=UTC:20250518T190000
DTSTAMP:20260422T072641
CREATED:20250102T110337Z
LAST-MODIFIED:20250511T210950Z
UID:1409-1747591200-1747594800@bachandmore.de
SUMMARY:Orgel Plus II : Konzert für Harfe und Orgel
DESCRIPTION:Werke von Blanco\, Lucchinetti\, C.Ph.E. Bach und Zingel\n\nMusizierende: Miriam Graf\, Harfe und Matthias Gerstner\, Orgel \nEintritt: 15 € / 8 € \nTickets auch unter Eventim online erhältlich. (zzgl. Vorverkaufsgebühr)
URL:https://bachandmore.de/event/orgel-plus-ii-konzert-fuer-harfe-und-orgel/
LOCATION:Evang. Petrikirche Baldham\, Petrikirche - Evangelisch-Lutherische Kirchengemeinde Baldham\, Martin-Luther-Ring 30\, Vaterstetten\, Bayern\, 85598
ATTACH;FMTTYPE=image/png:https://bachandmore.de/wp-content/uploads/2025/01/Design-ohne-Titel_20250103_122552_0000.png
END:VEVENT
END:VCALENDAR