BEGIN:VCALENDAR
VERSION:2.0
PRODID:-//Bach&amp;More - ECPv6.15.20//NONSGML v1.0//EN
CALSCALE:GREGORIAN
METHOD:PUBLISH
X-ORIGINAL-URL:https://bachandmore.de
X-WR-CALDESC:Veranstaltungen für Bach&amp;More
REFRESH-INTERVAL;VALUE=DURATION:PT1H
X-Robots-Tag:noindex
X-PUBLISHED-TTL:PT1H
BEGIN:VTIMEZONE
TZID:UTC
BEGIN:STANDARD
TZOFFSETFROM:+0000
TZOFFSETTO:+0000
TZNAME:UTC
DTSTART:20240101T000000
END:STANDARD
END:VTIMEZONE
BEGIN:VEVENT
DTSTART;TZID=UTC:20250329T190000
DTEND;TZID=UTC:20250329T210000
DTSTAMP:20260424T101551
CREATED:20250102T104621Z
LAST-MODIFIED:20250329T142033Z
UID:1405-1743274800-1743282000@bachandmore.de
SUMMARY:Chor- und Orchesterkonzert I : Lukas-Passion\, BWV 246
DESCRIPTION:Johann Sebastian Bach\nMusizierende: Monika Lichtenegger\, Sopran / Jonas Häusler\, Tenor / Luca Gotti\, Tenor / Klaus Reiter\, Bass / Barockensemble Vaterstetten / JUBILATE-CHOR Zorneding \nLeitung: Matthias Gerstner \nEintritt: 20 € / 18 € / 16 € / 13 € \nTickets auch online erhältlich. \n 
URL:https://bachandmore.de/event/chor-und-orchesterkonzert-i-lukas-passion-bwv-246/
LOCATION:Kath. Kirche St. Martin Zorneding\, Katholische Kirche Zorneding\, Anton-Grandauer-Straße 4\, Zorneding\, Bayern\, 85604\, Deutschland
ATTACH;FMTTYPE=image/png:https://bachandmore.de/wp-content/uploads/2025/01/Design-ohne-Titel-4.png
END:VEVENT
END:VCALENDAR