BEGIN:VCALENDAR
VERSION:2.0
PRODID:-//Bach&amp;More - ECPv6.15.20//NONSGML v1.0//EN
CALSCALE:GREGORIAN
METHOD:PUBLISH
X-ORIGINAL-URL:https://bachandmore.de
X-WR-CALDESC:Veranstaltungen für Bach&amp;More
REFRESH-INTERVAL;VALUE=DURATION:PT1H
X-Robots-Tag:noindex
X-PUBLISHED-TTL:PT1H
BEGIN:VTIMEZONE
TZID:UTC
BEGIN:STANDARD
TZOFFSETFROM:+0000
TZOFFSETTO:+0000
TZNAME:UTC
DTSTART:20230101T000000
END:STANDARD
END:VTIMEZONE
BEGIN:VEVENT
DTSTART;TZID=UTC:20240929T180000
DTEND;TZID=UTC:20240929T190000
DTSTAMP:20260424T201826
CREATED:20240331T191929Z
LAST-MODIFIED:20240331T191929Z
UID:1312-1727632800-1727636400@bachandmore.de
SUMMARY:Orgelkonzert zu vier Händen
DESCRIPTION:Werke von Mozart\, Lachner\, Hesse und Albrechtsberger\nEs musizieren: Catharina Seidel und Matthias Gerstner\, Orgel \nEintritt: 15 € / 8 €
URL:https://bachandmore.de/event/orgelkonzert-zu-vier-haenden-2/
LOCATION:Evang. Petrikirche Baldham\, Petrikirche - Evangelisch-Lutherische Kirchengemeinde Baldham\, Martin-Luther-Ring 30\, Vaterstetten\, Bayern\, 85598
ATTACH;FMTTYPE=image/jpeg:https://bachandmore.de/wp-content/uploads/2024/03/20240326_191549-scaled-e1711912639558.jpg
END:VEVENT
END:VCALENDAR