BEGIN:VCALENDAR
VERSION:2.0
PRODID:-//Bach&amp;More - ECPv6.15.20//NONSGML v1.0//EN
CALSCALE:GREGORIAN
METHOD:PUBLISH
X-WR-CALNAME:Bach&amp;More
X-ORIGINAL-URL:https://bachandmore.de
X-WR-CALDESC:Veranstaltungen für Bach&amp;More
REFRESH-INTERVAL;VALUE=DURATION:PT1H
X-Robots-Tag:noindex
X-PUBLISHED-TTL:PT1H
BEGIN:VTIMEZONE
TZID:UTC
BEGIN:STANDARD
TZOFFSETFROM:+0000
TZOFFSETTO:+0000
TZNAME:UTC
DTSTART:20230101T000000
END:STANDARD
END:VTIMEZONE
BEGIN:VEVENT
DTSTART;TZID=UTC:20240623T190000
DTEND;TZID=UTC:20240623T200000
DTSTAMP:20260424T182358
CREATED:20231230T223723Z
LAST-MODIFIED:20240611T194456Z
UID:1143-1719169200-1719172800@bachandmore.de
SUMMARY:Orgel plus II : Konzert für Sopran\, Violine und Orgel
DESCRIPTION:Werke von Vivaldi\, Telemann\, Händel und Mozart\nEs musizieren: Monika Lichtenegger\, Sopran | Johanna Gerstner\, Violine | Matthias Gerstner\, Orgel \nEintritt: 15 € / 8 €
URL:https://bachandmore.de/event/orgel-plus-ii-konzert-fuer-sopran-violine-und-orgel/
LOCATION:Kath. Kirche St. Aegidius Keferloh\, St. Aegidius\, Gut Keferloh 2\, Grasbrunn\, Bayern\, 85630
ATTACH;FMTTYPE=image/jpeg:https://bachandmore.de/wp-content/uploads/2023/12/Johanna-Gerstner.jpg
END:VEVENT
END:VCALENDAR