BEGIN:VCALENDAR
VERSION:2.0
PRODID:-//Bach&amp;More - ECPv6.15.20//NONSGML v1.0//EN
CALSCALE:GREGORIAN
METHOD:PUBLISH
X-ORIGINAL-URL:https://bachandmore.de
X-WR-CALDESC:Veranstaltungen für Bach&amp;More
REFRESH-INTERVAL;VALUE=DURATION:PT1H
X-Robots-Tag:noindex
X-PUBLISHED-TTL:PT1H
BEGIN:VTIMEZONE
TZID:UTC
BEGIN:STANDARD
TZOFFSETFROM:+0000
TZOFFSETTO:+0000
TZNAME:UTC
DTSTART:20230101T000000
END:STANDARD
END:VTIMEZONE
BEGIN:VEVENT
DTSTART;TZID=UTC:20240518T190000
DTEND;TZID=UTC:20240518T190000
DTSTAMP:20260424T164656
CREATED:20231230T221759Z
LAST-MODIFIED:20231230T221759Z
UID:1140-1716058800-1716058800@bachandmore.de
SUMMARY:Orgelvesper zu Pfingsten
DESCRIPTION:Werke von Buxtehude\, Lübeck\, Mendelssohn Bartholdy und Bach\nMatthias Gerstner\, Orgel \nEintritt frei – Spenden erbeten
URL:https://bachandmore.de/event/orgelvesper-zu-pfingsten-3/
LOCATION:Evang. Petrikirche Baldham\, Petrikirche - Evangelisch-Lutherische Kirchengemeinde Baldham\, Martin-Luther-Ring 30\, Vaterstetten\, Bayern\, 85598
ATTACH;FMTTYPE=image/jpeg:https://bachandmore.de/wp-content/uploads/2020/11/organ-4355592_1920.jpg
END:VEVENT
END:VCALENDAR