BEGIN:VCALENDAR
VERSION:2.0
PRODID:-//Bach&amp;More - ECPv6.15.20//NONSGML v1.0//EN
CALSCALE:GREGORIAN
METHOD:PUBLISH
X-ORIGINAL-URL:https://bachandmore.de
X-WR-CALDESC:Veranstaltungen für Bach&amp;More
REFRESH-INTERVAL;VALUE=DURATION:PT1H
X-Robots-Tag:noindex
X-PUBLISHED-TTL:PT1H
BEGIN:VTIMEZONE
TZID:UTC
BEGIN:STANDARD
TZOFFSETFROM:+0000
TZOFFSETTO:+0000
TZNAME:UTC
DTSTART:20220101T000000
END:STANDARD
END:VTIMEZONE
BEGIN:VEVENT
DTSTART;TZID=UTC:20231210T170000
DTEND;TZID=UTC:20231210T170000
DTSTAMP:20260422T085504
CREATED:20221230T215016Z
LAST-MODIFIED:20231210T194809Z
UID:1031-1702227600-1702227600@bachandmore.de
SUMMARY:Adventskonzert
DESCRIPTION:Weihnachtliche Barockmusik von Dietrich Buxtehude\, Georg Philipp Telemann und Johann Vierdanck\nInstrumentalisten | Kammerchor CON VOCE \nLeitung: Matthias Gerstner \nEintritt: 15 € / 8 €
URL:https://bachandmore.de/event/adventskonzert-2/
LOCATION:Kath. Kirche St. Aegidius Keferloh\, St. Aegidius\, Gut Keferloh 2\, Grasbrunn\, Bayern\, 85630
CATEGORIES:Chorkonzert
ATTACH;FMTTYPE=image/jpeg:https://bachandmore.de/wp-content/uploads/2022/12/IMG_20220528_183750_2-e1711915354248.jpg
END:VEVENT
BEGIN:VEVENT
DTSTART;TZID=UTC:20231231T200000
DTEND;TZID=UTC:20231231T200000
DTSTAMP:20260422T085504
CREATED:20221230T215329Z
LAST-MODIFIED:20231230T213433Z
UID:1033-1704052800-1704052800@bachandmore.de
SUMMARY:Orgel plus VIII: Silvesterkonzert für Trompete und Orgel
DESCRIPTION:Liebe Freunde der guten Musik\,\n\n\nlassen Sie das Jahr 2023 mit guter Musik ausklingen! Genießen Sie die Werke bekannter Komponisten bevor der Krach der Böller uns um die Ohren fliegt. Vielleicht lassen Sie bei den Klängen der Trompete und der Orgel das zu Ende gegangene Jahr noch einmal Revue passieren und erinnern sich voller Dankbarkeit an die schönen\, aber vielleicht auch an manche weniger schönen Momente.\n\nWir laden Sie ganz herzlich ein zum festlichen Sylvester Konzert mit Barockmusik:\n \n\n\nWerke von Johann Sebastian Bach\, Georg Friedrich Händel und Georg Philipp Telemann\nEs musizieren: Immanuel Tommasini\, Trompete | Matthias Gerstner\, Orgel \nEintritt: 15 € / 8 €
URL:https://bachandmore.de/event/orgel-plus-viii-silvesterkonzert-fuer-trompete-und-orgel/
LOCATION:Evang. Christophoruskirche Zorneding\, Christophoruskirche - Evangelisch-Luherische Kirchengemeinde Zorneding\, Lindenstraße 11-13\, Zorneding\, Bayern\, 85604
ATTACH;FMTTYPE=image/jpeg:https://bachandmore.de/wp-content/uploads/2022/12/Silvester_ufoe_1.jpg
END:VEVENT
END:VCALENDAR