BEGIN:VCALENDAR
VERSION:2.0
PRODID:-//Bach&amp;More - ECPv6.15.20//NONSGML v1.0//EN
CALSCALE:GREGORIAN
METHOD:PUBLISH
X-WR-CALNAME:Bach&amp;More
X-ORIGINAL-URL:https://bachandmore.de
X-WR-CALDESC:Veranstaltungen für Bach&amp;More
REFRESH-INTERVAL;VALUE=DURATION:PT1H
X-Robots-Tag:noindex
X-PUBLISHED-TTL:PT1H
BEGIN:VTIMEZONE
TZID:UTC
BEGIN:STANDARD
TZOFFSETFROM:+0000
TZOFFSETTO:+0000
TZNAME:UTC
DTSTART:20250101T000000
END:STANDARD
END:VTIMEZONE
BEGIN:VEVENT
DTSTART;TZID=UTC:20261231T200000
DTEND;TZID=UTC:20261231T210000
DTSTAMP:20260422T014201
CREATED:20251219T124333Z
LAST-MODIFIED:20251219T124333Z
UID:1568-1798747200-1798750800@bachandmore.de
SUMMARY:Orgel plus V: Silvesterkonzert für Trompete und Orgel
DESCRIPTION:Werke von Johann Sebastian Bach\, Georg Friedrich Händel\,Georg Philipp Telemann und Giovanni Buonaventura Viviani\nFranz Tradler\, Trompete \nMatthias Gerstner\, Orgel \nEintritt: 15 € / 8 €
URL:https://bachandmore.de/event/orgel-plus-v-silvesterkonzert-fuer-trompete-und-orgel/
LOCATION:Evang. Christophoruskirche Zorneding\, Christophoruskirche - Evangelisch-Luherische Kirchengemeinde Zorneding\, Lindenstraße 11-13\, Zorneding\, Bayern\, 85604
END:VEVENT
END:VCALENDAR