BEGIN:VCALENDAR
VERSION:2.0
PRODID:-//Bach&amp;More - ECPv6.15.20//NONSGML v1.0//EN
CALSCALE:GREGORIAN
METHOD:PUBLISH
X-WR-CALNAME:Bach&amp;More
X-ORIGINAL-URL:https://bachandmore.de
X-WR-CALDESC:Veranstaltungen für Bach&amp;More
REFRESH-INTERVAL;VALUE=DURATION:PT1H
X-Robots-Tag:noindex
X-PUBLISHED-TTL:PT1H
BEGIN:VTIMEZONE
TZID:UTC
BEGIN:STANDARD
TZOFFSETFROM:+0000
TZOFFSETTO:+0000
TZNAME:UTC
DTSTART:20250101T000000
END:STANDARD
END:VTIMEZONE
BEGIN:VEVENT
DTSTART;TZID=UTC:20261115T180000
DTEND;TZID=UTC:20261115T190000
DTSTAMP:20260421T235713
CREATED:20251219T123550Z
LAST-MODIFIED:20251219T123550Z
UID:1561-1794765600-1794769200@bachandmore.de
SUMMARY:Orgelkonzert zu vier Händen
DESCRIPTION:Werke von Christian Gottlob Höpner\, Franz Lachner\, Adolph Friedrich Hesse und Johann Georg Albrechtsberger\nCatharina Seidel und Matthias Gerstner\, Orgel \nEintritt: 15 € / 8 € \n 
URL:https://bachandmore.de/event/orgelkonzert-zu-vier-haenden-3/
LOCATION:Evang. Petrikirche Baldham\, Petrikirche - Evangelisch-Lutherische Kirchengemeinde Baldham\, Martin-Luther-Ring 30\, Vaterstetten\, Bayern\, 85598
END:VEVENT
END:VCALENDAR