BEGIN:VCALENDAR
VERSION:2.0
PRODID:-//Bach&amp;More - ECPv6.15.20//NONSGML v1.0//EN
CALSCALE:GREGORIAN
METHOD:PUBLISH
X-ORIGINAL-URL:https://bachandmore.de
X-WR-CALDESC:Veranstaltungen für Bach&amp;More
REFRESH-INTERVAL;VALUE=DURATION:PT1H
X-Robots-Tag:noindex
X-PUBLISHED-TTL:PT1H
BEGIN:VTIMEZONE
TZID:UTC
BEGIN:STANDARD
TZOFFSETFROM:+0000
TZOFFSETTO:+0000
TZNAME:UTC
DTSTART:20250101T000000
END:STANDARD
END:VTIMEZONE
BEGIN:VEVENT
DTSTART;TZID=UTC:20260926T190000
DTEND;TZID=UTC:20260926T200000
DTSTAMP:20260421T203105
CREATED:20251219T123103Z
LAST-MODIFIED:20251219T123103Z
UID:1557-1790449200-1790452800@bachandmore.de
SUMMARY:Orgel plus IV: Konzert für Oboe\, Horn und Orgel
DESCRIPTION:Werke von Georg Friedrich Händel\, Johann Sebastian Bach und Georg Philipp Telemann\nIrene Draxinger\, Oboe \nFranz Draxinger\, Horn \nMatthias Gerstner\, Orgel \nEintritt: 15 € / 8 €
URL:https://bachandmore.de/event/orgel-plus-iv-konzert-fuer-oboe-horn-und-orgel/
LOCATION:Evang. Petrikirche Baldham\, Petrikirche - Evangelisch-Lutherische Kirchengemeinde Baldham\, Martin-Luther-Ring 30\, Vaterstetten\, Bayern\, 85598
END:VEVENT
END:VCALENDAR