BEGIN:VCALENDAR
VERSION:2.0
PRODID:-//Bach&amp;More - ECPv6.15.20//NONSGML v1.0//EN
CALSCALE:GREGORIAN
METHOD:PUBLISH
X-WR-CALNAME:Bach&amp;More
X-ORIGINAL-URL:https://bachandmore.de
X-WR-CALDESC:Veranstaltungen für Bach&amp;More
REFRESH-INTERVAL;VALUE=DURATION:PT1H
X-Robots-Tag:noindex
X-PUBLISHED-TTL:PT1H
BEGIN:VTIMEZONE
TZID:UTC
BEGIN:STANDARD
TZOFFSETFROM:+0000
TZOFFSETTO:+0000
TZNAME:UTC
DTSTART:20250101T000000
END:STANDARD
END:VTIMEZONE
BEGIN:VEVENT
DTSTART;TZID=UTC:20260712T190000
DTEND;TZID=UTC:20260712T200000
DTSTAMP:20260421T170857
CREATED:20260306T203309Z
LAST-MODIFIED:20260306T203432Z
UID:1594-1783882800-1783886400@bachandmore.de
SUMMARY:Orgel Plus III: Festliche Musik mit Trompete\, Sopran und Orgel
DESCRIPTION:Werke von Alessandro Melani\, Alessandro Scarletti\, Georg Friedrich Händel und Georg Philipp Telemann\nPeter Millich | Trompete\, Monika Lichtenegger | Sopran und Matthias Gerstner | Orgel \nEintritt: 18 € / 10 €
URL:https://bachandmore.de/event/orgel-plus-iii-festliche-musik-mit-trompete-sopran-und-orgel/
END:VEVENT
END:VCALENDAR