BEGIN:VCALENDAR
VERSION:2.0
PRODID:-//Bach&amp;More - ECPv6.15.20//NONSGML v1.0//EN
CALSCALE:GREGORIAN
METHOD:PUBLISH
X-ORIGINAL-URL:https://bachandmore.de
X-WR-CALDESC:Veranstaltungen für Bach&amp;More
REFRESH-INTERVAL;VALUE=DURATION:PT1H
X-Robots-Tag:noindex
X-PUBLISHED-TTL:PT1H
BEGIN:VTIMEZONE
TZID:UTC
BEGIN:STANDARD
TZOFFSETFROM:+0000
TZOFFSETTO:+0000
TZNAME:UTC
DTSTART:20250101T000000
END:STANDARD
END:VTIMEZONE
BEGIN:VEVENT
DTSTART;TZID=UTC:20260523T190000
DTEND;TZID=UTC:20260523T200000
DTSTAMP:20260421T094710
CREATED:20251219T120745Z
LAST-MODIFIED:20251219T120745Z
UID:1549-1779562800-1779566400@bachandmore.de
SUMMARY:Orgelvesper zu Pfingsten
DESCRIPTION:Werke von Dietrich Buxtehude\, Johann Sebastian Bach und Sigfrid Karg-Elert\nMatthias Gerstner\, Orgel \nEintritt frei – Spenden erbeten
URL:https://bachandmore.de/event/orgelvesper-zu-pfingsten-5/
LOCATION:Evang. Petrikirche Baldham\, Petrikirche - Evangelisch-Lutherische Kirchengemeinde Baldham\, Martin-Luther-Ring 30\, Vaterstetten\, Bayern\, 85598
END:VEVENT
END:VCALENDAR