BEGIN:VCALENDAR
VERSION:2.0
PRODID:-//Bach&amp;More - ECPv6.15.20//NONSGML v1.0//EN
CALSCALE:GREGORIAN
METHOD:PUBLISH
X-WR-CALNAME:Bach&amp;More
X-ORIGINAL-URL:https://bachandmore.de
X-WR-CALDESC:Veranstaltungen für Bach&amp;More
REFRESH-INTERVAL;VALUE=DURATION:PT1H
X-Robots-Tag:noindex
X-PUBLISHED-TTL:PT1H
BEGIN:VTIMEZONE
TZID:UTC
BEGIN:STANDARD
TZOFFSETFROM:+0000
TZOFFSETTO:+0000
TZNAME:UTC
DTSTART:20250101T000000
END:STANDARD
END:VTIMEZONE
BEGIN:VEVENT
DTSTART;TZID=UTC:20260403T180000
DTEND;TZID=UTC:20260403T190000
DTSTAMP:20260421T134508
CREATED:20251219T120536Z
LAST-MODIFIED:20260315T201321Z
UID:1547-1775239200-1775242800@bachandmore.de
SUMMARY:Kammerkonzert II: Barockmusik am Karfreitag
DESCRIPTION:Werke von Carl Philipp Emanuel Bach\, Georg Philipp Telemann\, Joseph Bodin de Boismortier und Johann Joachim Quantz\nDirk-Michael Kirsch\, Oboe \nRegina Graf\, Violine \nKatharina Steinbauer\, Fagott \nMatthias Gerstner\, Cembalo \nEintritt: 18 € / 10 € \nKarten auch ONLINE erhältlich (zzgl. Vorverkaufsgebühr).
URL:https://bachandmore.de/event/kammerkonzert-ii-barockmusik-am-karfreitag-2/
LOCATION:Evang. Christophoruskirche Zorneding\, Christophoruskirche - Evangelisch-Luherische Kirchengemeinde Zorneding\, Lindenstraße 11-13\, Zorneding\, Bayern\, 85604
END:VEVENT
END:VCALENDAR