BEGIN:VCALENDAR
VERSION:2.0
PRODID:-//Bach&amp;More - ECPv6.15.20//NONSGML v1.0//EN
CALSCALE:GREGORIAN
METHOD:PUBLISH
X-WR-CALNAME:Bach&amp;More
X-ORIGINAL-URL:https://bachandmore.de
X-WR-CALDESC:Veranstaltungen für Bach&amp;More
REFRESH-INTERVAL;VALUE=DURATION:PT1H
X-Robots-Tag:noindex
X-PUBLISHED-TTL:PT1H
BEGIN:VTIMEZONE
TZID:UTC
BEGIN:STANDARD
TZOFFSETFROM:+0000
TZOFFSETTO:+0000
TZNAME:UTC
DTSTART:20250101T000000
END:STANDARD
END:VTIMEZONE
BEGIN:VEVENT
DTSTART;TZID=UTC:20260329T180000
DTEND;TZID=UTC:20260329T190000
DTSTAMP:20260421T150641
CREATED:20251219T120251Z
LAST-MODIFIED:20260315T195753Z
UID:1545-1774807200-1774810800@bachandmore.de
SUMMARY:Chor- und Orchesterkonzert I
DESCRIPTION:Carl Heinrich Graun: Der Tod Jesu\nMonika Lichtenegger\, Sopran | Camilla Bull\, Alt | Jonas Häusler\, Tenor | Klaus Reiter\, Bass \nBarockensemble Vaterstetten | JUBILATE-CHOR Zorneding \nLeitung: Matthias Gerstner \nEintritt: 22 € \nKarten auch ONLINE erhältlich (zzgl. Vorverkaufsgebühr).
URL:https://bachandmore.de/event/chor-und-orchesterkonzert-i-2/
LOCATION:Kath. Kirche Maria Königin Baldham
CATEGORIES:Chorkonzert
END:VEVENT
END:VCALENDAR