BEGIN:VCALENDAR
VERSION:2.0
PRODID:-//Bach&amp;More - ECPv6.15.20//NONSGML v1.0//EN
CALSCALE:GREGORIAN
METHOD:PUBLISH
X-ORIGINAL-URL:https://bachandmore.de
X-WR-CALDESC:Veranstaltungen für Bach&amp;More
REFRESH-INTERVAL;VALUE=DURATION:PT1H
X-Robots-Tag:noindex
X-PUBLISHED-TTL:PT1H
BEGIN:VTIMEZONE
TZID:UTC
BEGIN:STANDARD
TZOFFSETFROM:+0000
TZOFFSETTO:+0000
TZNAME:UTC
DTSTART:20240101T000000
END:STANDARD
END:VTIMEZONE
BEGIN:VEVENT
DTSTART;TZID=UTC:20251116T180000
DTEND;TZID=UTC:20251116T190000
DTSTAMP:20260421T221210
CREATED:20250102T124831Z
LAST-MODIFIED:20251116T152416Z
UID:1422-1763316000-1763319600@bachandmore.de
SUMMARY:Chorkonzert : Konzert für Chor und Orgel
DESCRIPTION:Josef Gabriel Rheinberger: Kyrie – Gloria – Credo aus der Messe in g op. 187 und Sechs Hymnen op. 118\nMusizierende: Kammerchor CON VOCE / Catharina Seidel\, Orgel / Leitung: Matthias Gerstner \nEintritt: 15 € / 8 € \nTickets auch ONLINE erhältlich (zzgl. Vorverkaufsgebühr)
URL:https://bachandmore.de/event/chorkonzert-konzert-fuer-chor-und-orgel/
LOCATION:Evang. Petrikirche Baldham\, Petrikirche - Evangelisch-Lutherische Kirchengemeinde Baldham\, Martin-Luther-Ring 30\, Vaterstetten\, Bayern\, 85598
END:VEVENT
END:VCALENDAR