BEGIN:VCALENDAR
VERSION:2.0
PRODID:-//Bach&amp;More - ECPv6.15.20//NONSGML v1.0//EN
CALSCALE:GREGORIAN
METHOD:PUBLISH
X-WR-CALNAME:Bach&amp;More
X-ORIGINAL-URL:https://bachandmore.de
X-WR-CALDESC:Veranstaltungen für Bach&amp;More
REFRESH-INTERVAL;VALUE=DURATION:PT1H
X-Robots-Tag:noindex
X-PUBLISHED-TTL:PT1H
BEGIN:VTIMEZONE
TZID:UTC
BEGIN:STANDARD
TZOFFSETFROM:+0000
TZOFFSETTO:+0000
TZNAME:UTC
DTSTART:20240101T000000
END:STANDARD
END:VTIMEZONE
BEGIN:VEVENT
DTSTART;TZID=UTC:20250607T190000
DTEND;TZID=UTC:20250607T200000
DTSTAMP:20260422T070517
CREATED:20250102T110745Z
LAST-MODIFIED:20250103T112813Z
UID:1411-1749322800-1749326400@bachandmore.de
SUMMARY:Orgelvesper zu Pfingsten
DESCRIPTION:Werke von Mendelssohn Batholdy\, Brahms\, Karg-Elert und Rutter\nMusizierende: Matthias Gerstner\, Orgel \nEintritt frei – Spenden erbeten
URL:https://bachandmore.de/event/orgelvesper-zu-pfingsten-4/
LOCATION:Evang. Petrikirche Baldham\, Petrikirche - Evangelisch-Lutherische Kirchengemeinde Baldham\, Martin-Luther-Ring 30\, Vaterstetten\, Bayern\, 85598
ATTACH;FMTTYPE=image/png:https://bachandmore.de/wp-content/uploads/2025/01/Design-ohne-Titel_20250103_122552_0000.png
END:VEVENT
END:VCALENDAR