BEGIN:VCALENDAR
VERSION:2.0
PRODID:-//Bach&amp;More - ECPv6.15.20//NONSGML v1.0//EN
CALSCALE:GREGORIAN
METHOD:PUBLISH
X-WR-CALNAME:Bach&amp;More
X-ORIGINAL-URL:https://bachandmore.de
X-WR-CALDESC:Veranstaltungen für Bach&amp;More
REFRESH-INTERVAL;VALUE=DURATION:PT1H
X-Robots-Tag:noindex
X-PUBLISHED-TTL:PT1H
BEGIN:VTIMEZONE
TZID:UTC
BEGIN:STANDARD
TZOFFSETFROM:+0000
TZOFFSETTO:+0000
TZNAME:UTC
DTSTART:20240101T000000
END:STANDARD
END:VTIMEZONE
BEGIN:VEVENT
DTSTART;TZID=UTC:20250118T190000
DTEND;TZID=UTC:20250118T200000
DTSTAMP:20260424T145943
CREATED:20241225T203119Z
LAST-MODIFIED:20250118T104941Z
UID:1398-1737226800-1737230400@bachandmore.de
SUMMARY:Orgel plus I : Festkonzert zum 25-jährigen Jubiläum BACH&MORE
DESCRIPTION:mit anschließendem Sektempfang\n\nWerke von Händel\, Telemann und Bach\nMusizierende: Irene Draxinger\, Oboe | Franz Draxinger\, Horn | Matthias Gerstner\, Orgel\n\nEintritt: 15 € / 8 €\nTickets auch online erhältlich: EVENTIM
URL:https://bachandmore.de/event/orgel-plus-i-festkonzert-zum-25-jaehrigen-jubilaeum-bachmore/
LOCATION:Evang. Petrikirche Baldham\, Petrikirche - Evangelisch-Lutherische Kirchengemeinde Baldham\, Martin-Luther-Ring 30\, Vaterstetten\, Bayern\, 85598
ATTACH;FMTTYPE=image/png:https://bachandmore.de/wp-content/uploads/2024/12/Jahre-Konzertreihe-BACHMORE.png
END:VEVENT
END:VCALENDAR