BEGIN:VCALENDAR
VERSION:2.0
PRODID:-//Bach&amp;More - ECPv6.15.20//NONSGML v1.0//EN
CALSCALE:GREGORIAN
METHOD:PUBLISH
X-ORIGINAL-URL:https://bachandmore.de
X-WR-CALDESC:Veranstaltungen für Bach&amp;More
REFRESH-INTERVAL;VALUE=DURATION:PT1H
X-Robots-Tag:noindex
X-PUBLISHED-TTL:PT1H
BEGIN:VTIMEZONE
TZID:UTC
BEGIN:STANDARD
TZOFFSETFROM:+0000
TZOFFSETTO:+0000
TZNAME:UTC
DTSTART:20230101T000000
END:STANDARD
END:VTIMEZONE
BEGIN:VEVENT
DTSTART;TZID=UTC:20241231T200000
DTEND;TZID=UTC:20241231T210000
DTSTAMP:20260424T150449
CREATED:20240331T202208Z
LAST-MODIFIED:20241201T213736Z
UID:1329-1735675200-1735678800@bachandmore.de
SUMMARY:Orgel plus V : Silvesterkonzert
DESCRIPTION:Silvesterkonzert für Saxophon und Orgel\nWerke von Bach\, Händel\,  Bozza und Piazzolla \nHermann Rid\, Saxophon | Matthias Gerstner\, Orgel \nEintritt: 15 € / 8 € \nKartenvorverkauf jetzt auch digital: \nWir wünschen allen unseren Konzertbesucherinnen und Konzertbesucher einen guten Start ins neue Jahr und freuen uns auf viele gemeinsame Konzerte in 2025!! 😍🎶🎻🎹
URL:https://bachandmore.de/event/orgel-plus-v-silvesterkonzert/
LOCATION:Evang. Christophoruskirche Zorneding\, Christophoruskirche - Evangelisch-Luherische Kirchengemeinde Zorneding\, Lindenstraße 11-13\, Zorneding\, Bayern\, 85604
ATTACH;FMTTYPE=image/jpeg:https://bachandmore.de/wp-content/uploads/2024/03/pexels-designecologist-2526105-scaled-e1711916419695.jpg
END:VEVENT
END:VCALENDAR