BEGIN:VCALENDAR
VERSION:2.0
PRODID:-//Bach&amp;More - ECPv6.15.20//NONSGML v1.0//EN
CALSCALE:GREGORIAN
METHOD:PUBLISH
X-ORIGINAL-URL:https://bachandmore.de
X-WR-CALDESC:Veranstaltungen für Bach&amp;More
REFRESH-INTERVAL;VALUE=DURATION:PT1H
X-Robots-Tag:noindex
X-PUBLISHED-TTL:PT1H
BEGIN:VTIMEZONE
TZID:UTC
BEGIN:STANDARD
TZOFFSETFROM:+0000
TZOFFSETTO:+0000
TZNAME:UTC
DTSTART:20230101T000000
END:STANDARD
END:VTIMEZONE
BEGIN:VEVENT
DTSTART;TZID=UTC:20241208T170000
DTEND;TZID=UTC:20241208T180000
DTSTAMP:20260424T163646
CREATED:20240331T200320Z
LAST-MODIFIED:20240331T200320Z
UID:1324-1733677200-1733680800@bachandmore.de
SUMMARY:Adventsmusik aus England
DESCRIPTION:Werke von Rutter\, Jenkins und Willcocks\nEs musizieren: \nMiriam Graf\, Harfe | Kammerchor CON VOCE \nLeitung: Matthias Gerstner \nEintritt: 15 € / 8 €
URL:https://bachandmore.de/event/adventsmusik-aus-england/
LOCATION:Kath. Kirche St. Aegidius Keferloh\, St. Aegidius\, Gut Keferloh 2\, Grasbrunn\, Bayern\, 85630
ATTACH;FMTTYPE=image/jpeg:https://bachandmore.de/wp-content/uploads/2022/12/IMG_20220528_183750_2-e1711915354248.jpg
END:VEVENT
END:VCALENDAR