BEGIN:VCALENDAR
VERSION:2.0
PRODID:-//Bach&amp;More - ECPv6.15.20//NONSGML v1.0//EN
CALSCALE:GREGORIAN
METHOD:PUBLISH
X-WR-CALNAME:Bach&amp;More
X-ORIGINAL-URL:https://bachandmore.de
X-WR-CALDESC:Veranstaltungen für Bach&amp;More
REFRESH-INTERVAL;VALUE=DURATION:PT1H
X-Robots-Tag:noindex
X-PUBLISHED-TTL:PT1H
BEGIN:VTIMEZONE
TZID:UTC
BEGIN:STANDARD
TZOFFSETFROM:+0000
TZOFFSETTO:+0000
TZNAME:UTC
DTSTART:20230101T000000
END:STANDARD
END:VTIMEZONE
BEGIN:VEVENT
DTSTART;TZID=UTC:20240720T190000
DTEND;TZID=UTC:20240720T200000
DTSTAMP:20260424T215146
CREATED:20240101T173923Z
LAST-MODIFIED:20240101T173923Z
UID:1179-1721502000-1721505600@bachandmore.de
SUMMARY:Orgel plus III :  Sommerkonzert für Flöte und Orgel mit anschließendem Sektumtrunk
DESCRIPTION:Barockmusik aus Europa\nEs musizieren: Annette Hartig\, Flöte und Matthias Gerstner\, Orgel \nEintritt frei – Spenden erbeten
URL:https://bachandmore.de/event/orgel-plus-iii-sommerkonzert-fuer-floete-und-orgel-mit-anschliessendem-sektumtrunk/
LOCATION:Evang. Johanneskirche Kirchseeon\, Gartenweg 11\, Kirchseeon\, Bayern\, 85614\, Deutschland
ATTACH;FMTTYPE=image/jpeg:https://bachandmore.de/wp-content/uploads/2024/01/20210821_113302-scaled.jpg
END:VEVENT
END:VCALENDAR