BEGIN:VCALENDAR
VERSION:2.0
PRODID:-//Bach&amp;More - ECPv6.15.20//NONSGML v1.0//EN
CALSCALE:GREGORIAN
METHOD:PUBLISH
X-WR-CALNAME:Bach&amp;More
X-ORIGINAL-URL:https://bachandmore.de
X-WR-CALDESC:Veranstaltungen für Bach&amp;More
REFRESH-INTERVAL;VALUE=DURATION:PT1H
X-Robots-Tag:noindex
X-PUBLISHED-TTL:PT1H
BEGIN:VTIMEZONE
TZID:UTC
BEGIN:STANDARD
TZOFFSETFROM:+0000
TZOFFSETTO:+0000
TZNAME:UTC
DTSTART:20230101T000000
END:STANDARD
END:VTIMEZONE
BEGIN:VEVENT
DTSTART;TZID=UTC:20240225T180000
DTEND;TZID=UTC:20240225T190000
DTSTAMP:20260424T132634
CREATED:20231230T200351Z
LAST-MODIFIED:20231230T200351Z
UID:1114-1708884000-1708887600@bachandmore.de
SUMMARY:Kammerkonzert I : Barockmusik aus Europa
DESCRIPTION:Werke von Vivaldi\, Marcello\, Boismortier und Telemann\nEs musizieren: Klaus Kämper\, Violoncello und Matthias Gerstner\, Cembalo \nEintritt: 15 € / 8 €
URL:https://bachandmore.de/event/kammerkonzert-i-barockmusik-aus-europa/
LOCATION:Rathaus Zorneding\, Schulstraße 13\, Zorneding\, Bayern\, 85604
END:VEVENT
END:VCALENDAR