BEGIN:VCALENDAR
VERSION:2.0
PRODID:-//Bach&amp;More - ECPv6.15.20//NONSGML v1.0//EN
CALSCALE:GREGORIAN
METHOD:PUBLISH
X-WR-CALNAME:Bach&amp;More
X-ORIGINAL-URL:https://bachandmore.de
X-WR-CALDESC:Veranstaltungen für Bach&amp;More
REFRESH-INTERVAL;VALUE=DURATION:PT1H
X-Robots-Tag:noindex
X-PUBLISHED-TTL:PT1H
BEGIN:VTIMEZONE
TZID:UTC
BEGIN:STANDARD
TZOFFSETFROM:+0000
TZOFFSETTO:+0000
TZNAME:UTC
DTSTART:20220101T000000
END:STANDARD
END:VTIMEZONE
BEGIN:VEVENT
DTSTART;TZID=UTC:20230924T180000
DTEND;TZID=UTC:20230924T180000
DTSTAMP:20260420T015213
CREATED:20221230T213423Z
LAST-MODIFIED:20230912T194859Z
UID:1023-1695578400-1695578400@bachandmore.de
SUMMARY:Orgel plus VI: Konzert für Posaune und Orgel
DESCRIPTION:Werke von Jean Baptiste Loeillet\, Willem de Fesch\, Benedetto Marcello und Georg Christoph Wagenseil\nEs musizieren: Elmar Spier\, Posaune | Matthias Gerstner\, Orgel \nEintritt: 15 € / 8 €
URL:https://bachandmore.de/event/orgel-plus-vi-konzert-fuer-posaune-und-orgel/
LOCATION:Evang. Petrikirche Baldham\, Petrikirche - Evangelisch-Lutherische Kirchengemeinde Baldham\, Martin-Luther-Ring 30\, Vaterstetten\, Bayern\, 85598
ATTACH;FMTTYPE=image/jpeg:https://bachandmore.de/wp-content/uploads/2022/12/trombone-4584320_1280.jpg
END:VEVENT
END:VCALENDAR