BEGIN:VCALENDAR
VERSION:2.0
PRODID:-//Bach&amp;More - ECPv6.15.20//NONSGML v1.0//EN
CALSCALE:GREGORIAN
METHOD:PUBLISH
X-ORIGINAL-URL:https://bachandmore.de
X-WR-CALDESC:Veranstaltungen für Bach&amp;More
REFRESH-INTERVAL;VALUE=DURATION:PT1H
X-Robots-Tag:noindex
X-PUBLISHED-TTL:PT1H
BEGIN:VTIMEZONE
TZID:UTC
BEGIN:STANDARD
TZOFFSETFROM:+0000
TZOFFSETTO:+0000
TZNAME:UTC
DTSTART:20220101T000000
END:STANDARD
END:VTIMEZONE
BEGIN:VEVENT
DTSTART;TZID=UTC:20230702T190000
DTEND;TZID=UTC:20230702T190000
DTSTAMP:20260419T224002
CREATED:20221230T212220Z
LAST-MODIFIED:20230626T194657Z
UID:1016-1688324400-1688324400@bachandmore.de
SUMMARY:Chor- und Orchesterkonzert II: CON VOCE
DESCRIPTION:Peter Cornelius: Messe in d-moll\, CWV 91 Johannes Brahms: Der 13. Psalm\, op. 27\nEs musizieren: Monika Lichtenegger\, Sopran | Melanie Arnhold\, Alt | Barockensemble Vaterstetten | Kammerchor CON VOCE \nLeitung: Matthias Gerstner \nEintritt: 16 €
URL:https://bachandmore.de/event/chor-und-orchesterkonzert-ii-con-voce/
LOCATION:Kath. Wallfahrtskirche St. Ottilie Möschenfeld\, Wallfahrtskirche St. Ottilie\, St.-Ottilien-Weg 1\, Grasbrunn\, Bayern\, 85630
CATEGORIES:Chorkonzert
ATTACH;FMTTYPE=image/jpeg:https://bachandmore.de/wp-content/uploads/2022/12/IMG_20220528_183750_2-e1711915354248.jpg
END:VEVENT
END:VCALENDAR